Package: fmrs Version: 1.12.0 Command: chmod a+r fmrs -R && F:\biocbuild\bbs-3.18-bioc\R\bin\R.exe CMD build --keep-empty-dirs --no-resave-data fmrs StartedAt: 2024-04-15 18:35:30 -0400 (Mon, 15 Apr 2024) EndedAt: 2024-04-15 18:35:51 -0400 (Mon, 15 Apr 2024) EllapsedTime: 21.2 seconds RetCode: 0 Status: OK PackageFile: fmrs_1.12.0.tar.gz PackageFileSize: 47.05 KiB