Package: fmrs Version: 1.12.0 Maintainer: Farhad Shokoohi MaintainerEmail: shokoohi at icloud.com git_url: https://git.bioconductor.org/packages/fmrs git_branch: RELEASE_3_18 git_last_commit: c84c5e8 git_last_commit_date: 2023-10-24 11:23:22 -0400 (Tue, 24 Oct 2023)