Package: flowWorkspace Version: 4.14.3 Command: /home/biocbuild/bbs-3.18-bioc/R/bin/R CMD check --install=check:flowWorkspace.install-out.txt --library=/home/biocbuild/bbs-3.18-bioc/R/site-library --timings flowWorkspace_4.14.3.tar.gz StartedAt: 2024-04-15 22:53:07 -0400 (Mon, 15 Apr 2024) EndedAt: 2024-04-15 22:56:48 -0400 (Mon, 15 Apr 2024) EllapsedTime: 220.7 seconds RetCode: 0 Status: WARNINGS CheckDir: flowWorkspace.Rcheck Warnings: 5