Package: flowViz Version: 1.66.0 Command: /home/biocbuild/bbs-3.18-bioc/R/bin/R CMD check --install=check:flowViz.install-out.txt --library=/home/biocbuild/bbs-3.18-bioc/R/site-library --timings flowViz_1.66.0.tar.gz StartedAt: 2024-04-15 22:52:52 -0400 (Mon, 15 Apr 2024) EndedAt: 2024-04-15 22:56:38 -0400 (Mon, 15 Apr 2024) EllapsedTime: 226.1 seconds RetCode: 0 Status: OK CheckDir: flowViz.Rcheck Warnings: 0