Package: flowViz Version: 1.66.0 Command: rm -rf flowViz.buildbin-libdir && mkdir flowViz.buildbin-libdir && /Users/biocbuild/BBS/utils/build-universal.sh flowViz_1.66.0.tar.gz /Library/Frameworks/R.framework/Resources/bin/R flowViz.buildbin-libdir StartedAt: 2024-03-04 00:41:49 -0500 (Mon, 04 Mar 2024) EndedAt: 2024-03-04 00:42:07 -0500 (Mon, 04 Mar 2024) EllapsedTime: 18.3 seconds RetCode: 0 Status: OK PackageFile: flowViz_1.66.0.tgz PackageFileSize: 1.229 MiB