Package: flowVS Version: 1.34.0 Command: /Library/Frameworks/R.framework/Resources/bin/R CMD INSTALL flowVS StartedAt: 2024-03-03 15:44:41 -0500 (Sun, 03 Mar 2024) EndedAt: 2024-03-03 15:45:05 -0500 (Sun, 03 Mar 2024) EllapsedTime: 23.9 seconds RetCode: 0 Status: OK