Package: flowVS Version: 1.34.0 Command: /home/biocbuild/R/R-4.3.1/bin/R CMD INSTALL flowVS StartedAt: 2023-11-01 21:03:16 -0000 (Wed, 01 Nov 2023) EndedAt: 2023-11-01 21:03:40 -0000 (Wed, 01 Nov 2023) EllapsedTime: 23.6 seconds RetCode: 0 Status: OK