Package: flowVS Version: 1.34.0 Command: /home/biocbuild/R/R-4.3.1/bin/R CMD build --keep-empty-dirs --no-resave-data flowVS StartedAt: 2023-11-02 01:12:06 -0000 (Thu, 02 Nov 2023) EndedAt: 2023-11-02 01:15:11 -0000 (Thu, 02 Nov 2023) EllapsedTime: 185.2 seconds RetCode: 0 Status: OK PackageFile: flowVS_1.34.0.tar.gz PackageFileSize: 3.687 MiB