Package: flowStats Version: 4.14.1 Command: chmod a+r flowStats -R && F:\biocbuild\bbs-3.18-bioc\R\bin\R.exe CMD build --keep-empty-dirs --no-resave-data flowStats StartedAt: 2024-04-15 18:34:53 -0400 (Mon, 15 Apr 2024) EndedAt: 2024-04-15 18:37:02 -0400 (Mon, 15 Apr 2024) EllapsedTime: 129.5 seconds RetCode: 0 Status: OK PackageFile: flowStats_4.14.1.tar.gz PackageFileSize: 10.96 MiB