Package: flowStats Version: 4.14.1 Command: /home/biocbuild/bbs-3.18-bioc/R/bin/R CMD check --install=check:flowStats.install-out.txt --library=/home/biocbuild/bbs-3.18-bioc/R/site-library --timings flowStats_4.14.1.tar.gz StartedAt: 2024-04-15 22:52:31 -0400 (Mon, 15 Apr 2024) EndedAt: 2024-04-15 22:57:45 -0400 (Mon, 15 Apr 2024) EllapsedTime: 314.0 seconds RetCode: 0 Status: WARNINGS CheckDir: flowStats.Rcheck Warnings: 4