Package: flowSpecs Version: 1.16.0 Command: rm -rf flowSpecs.buildbin-libdir && mkdir flowSpecs.buildbin-libdir && /Users/biocbuild/BBS/utils/build-universal.sh flowSpecs_1.16.0.tar.gz /Library/Frameworks/R.framework/Resources/bin/R flowSpecs.buildbin-libdir StartedAt: 2024-03-04 00:41:44 -0500 (Mon, 04 Mar 2024) EndedAt: 2024-03-04 00:42:00 -0500 (Mon, 04 Mar 2024) EllapsedTime: 16.0 seconds RetCode: 0 Status: OK PackageFile: flowSpecs_1.16.0.tgz PackageFileSize: 3.554 MiB