Package: flowPlots Version: 1.50.0 Command: /home/biocbuild/bbs-3.18-bioc/R/bin/R CMD INSTALL flowPlots StartedAt: 2024-04-15 15:05:46 -0400 (Mon, 15 Apr 2024) EndedAt: 2024-04-15 15:05:54 -0400 (Mon, 15 Apr 2024) EllapsedTime: 8.2 seconds RetCode: 0 Status: OK