Package: flowPlots Version: 1.50.0 Command: /Library/Frameworks/R.framework/Resources/bin/R CMD check --install=check:flowPlots.install-out.txt --library=/Library/Frameworks/R.framework/Resources/library --no-vignettes --timings flowPlots_1.50.0.tar.gz StartedAt: 2024-04-16 02:55:55 -0400 (Tue, 16 Apr 2024) EndedAt: 2024-04-16 02:56:57 -0400 (Tue, 16 Apr 2024) EllapsedTime: 61.8 seconds RetCode: 0 Status: OK CheckDir: flowPlots.Rcheck Warnings: 0