Package: flowPlots Version: 1.50.0 Command: /home/biocbuild/R/R-4.3.1/bin/R CMD build --keep-empty-dirs --no-resave-data flowPlots StartedAt: 2023-11-02 01:11:18 -0000 (Thu, 02 Nov 2023) EndedAt: 2023-11-02 01:11:30 -0000 (Thu, 02 Nov 2023) EllapsedTime: 12.0 seconds RetCode: 0 Status: OK PackageFile: flowPlots_1.50.0.tar.gz PackageFileSize: 628.5 KiB