Package: flowMerge Version: 2.50.0 Command: /home/biocbuild/bbs-3.18-bioc/R/bin/R CMD build --keep-empty-dirs --no-resave-data flowMerge StartedAt: 2024-04-15 17:07:08 -0400 (Mon, 15 Apr 2024) EndedAt: 2024-04-15 17:07:53 -0400 (Mon, 15 Apr 2024) EllapsedTime: 44.8 seconds RetCode: 0 Status: OK PackageFile: flowMerge_2.50.0.tar.gz PackageFileSize: 562.9 KiB