Package: flowMeans Version: 1.62.0 Command: chmod a+r flowMeans -R && F:\biocbuild\bbs-3.18-bioc\R\bin\R.exe CMD build --keep-empty-dirs --no-resave-data flowMeans StartedAt: 2024-04-15 18:34:09 -0400 (Mon, 15 Apr 2024) EndedAt: 2024-04-15 18:34:36 -0400 (Mon, 15 Apr 2024) EllapsedTime: 27.7 seconds RetCode: 0 Status: OK PackageFile: flowMeans_1.62.0.tar.gz PackageFileSize: 3.194 MiB