Package: flowMeans Version: 1.62.0 Command: /home/biocbuild/bbs-3.18-bioc/R/bin/R CMD check --install=check:flowMeans.install-out.txt --library=/home/biocbuild/bbs-3.18-bioc/R/site-library --timings flowMeans_1.62.0.tar.gz StartedAt: 2024-04-15 22:51:32 -0400 (Mon, 15 Apr 2024) EndedAt: 2024-04-15 22:53:21 -0400 (Mon, 15 Apr 2024) EllapsedTime: 108.8 seconds RetCode: 0 Status: OK CheckDir: flowMeans.Rcheck Warnings: 0