Package: flowMatch Version: 1.38.0 Command: chmod a+r flowMatch -R && F:\biocbuild\bbs-3.18-bioc\R\bin\R.exe CMD build --keep-empty-dirs --no-resave-data flowMatch StartedAt: 2024-04-15 18:34:05 -0400 (Mon, 15 Apr 2024) EndedAt: 2024-04-15 18:35:04 -0400 (Mon, 15 Apr 2024) EllapsedTime: 59.3 seconds RetCode: 0 Status: OK PackageFile: flowMatch_1.38.0.tar.gz PackageFileSize: 3.561 MiB