Package: flowMatch Version: 1.38.0 Command: rm -rf flowMatch.buildbin-libdir && mkdir flowMatch.buildbin-libdir && /Users/biocbuild/BBS/utils/build-universal.sh flowMatch_1.38.0.tar.gz /Library/Frameworks/R.framework/Resources/bin/R flowMatch.buildbin-libdir StartedAt: 2024-04-16 11:43:16 -0400 (Tue, 16 Apr 2024) EndedAt: 2024-04-16 11:45:06 -0400 (Tue, 16 Apr 2024) EllapsedTime: 109.3 seconds RetCode: 0 Status: OK PackageFile: flowMatch_1.38.0.tgz PackageFileSize: 3.967 MiB