Package: flowMatch Version: 1.38.0 Command: /Library/Frameworks/R.framework/Resources/bin/R CMD INSTALL flowMatch StartedAt: 2024-03-03 15:14:53 -0500 (Sun, 03 Mar 2024) EndedAt: 2024-03-03 15:15:34 -0500 (Sun, 03 Mar 2024) EllapsedTime: 40.3 seconds RetCode: 0 Status: OK