Package: flowMatch Version: 1.38.0 Command: rm -rf flowMatch.buildbin-libdir && mkdir flowMatch.buildbin-libdir && /Users/biocbuild/BBS/utils/build-universal.sh flowMatch_1.38.0.tar.gz /Library/Frameworks/R.framework/Resources/bin/R flowMatch.buildbin-libdir StartedAt: 2024-03-04 00:41:39 -0500 (Mon, 04 Mar 2024) EndedAt: 2024-03-04 00:42:20 -0500 (Mon, 04 Mar 2024) EllapsedTime: 41.2 seconds RetCode: 0 Status: OK PackageFile: flowMatch_1.38.0.tgz PackageFileSize: 3.965 MiB