Package: flowMap Version: 1.40.0 Command: rm -rf flowMap.buildbin-libdir && mkdir flowMap.buildbin-libdir && F:\biocbuild\bbs-3.18-bioc\R\bin\R.exe CMD INSTALL --build --library=flowMap.buildbin-libdir flowMap_1.40.0.tar.gz StartedAt: 2024-04-16 07:01:25 -0400 (Tue, 16 Apr 2024) EndedAt: 2024-04-16 07:01:51 -0400 (Tue, 16 Apr 2024) EllapsedTime: 26.0 seconds RetCode: 0 Status: OK PackageFile: flowMap_1.40.0.zip PackageFileSize: 1022 KiB