Package: flowMap Version: 1.40.0 Command: /home/biocbuild/bbs-3.18-bioc/R/bin/R CMD check --install=check:flowMap.install-out.txt --library=/home/biocbuild/bbs-3.18-bioc/R/site-library --timings flowMap_1.40.0.tar.gz StartedAt: 2024-04-15 22:51:22 -0400 (Mon, 15 Apr 2024) EndedAt: 2024-04-15 22:52:04 -0400 (Mon, 15 Apr 2024) EllapsedTime: 41.9 seconds RetCode: 0 Status: WARNINGS CheckDir: flowMap.Rcheck Warnings: 3