Package: flowMap Version: 1.40.0 Command: /home/biocbuild/bbs-3.18-bioc/R/bin/R CMD build --keep-empty-dirs --no-resave-data flowMap StartedAt: 2024-04-15 17:06:52 -0400 (Mon, 15 Apr 2024) EndedAt: 2024-04-15 17:07:33 -0400 (Mon, 15 Apr 2024) EllapsedTime: 40.6 seconds RetCode: 0 Status: OK PackageFile: flowMap_1.40.0.tar.gz PackageFileSize: 878.5 KiB