Package: flowMap Version: 1.40.0 Command: rm -rf flowMap.buildbin-libdir && mkdir flowMap.buildbin-libdir && /Users/biocbuild/BBS/utils/build-universal.sh flowMap_1.40.0.tar.gz /Library/Frameworks/R.framework/Resources/bin/R flowMap.buildbin-libdir StartedAt: 2024-04-16 11:43:13 -0400 (Tue, 16 Apr 2024) EndedAt: 2024-04-16 11:43:40 -0400 (Tue, 16 Apr 2024) EllapsedTime: 27.3 seconds RetCode: 0 Status: OK PackageFile: flowMap_1.40.0.tgz PackageFileSize: 1019 KiB