Package: flowGate Version: 1.2.0 Command: F:\biocbuild\bbs-3.18-bioc\R\bin\R.exe CMD INSTALL flowGate StartedAt: 2024-04-15 16:10:22 -0400 (Mon, 15 Apr 2024) EndedAt: 2024-04-15 16:10:42 -0400 (Mon, 15 Apr 2024) EllapsedTime: 20.2 seconds RetCode: 0 Status: OK