Package: flowGate Version: 1.2.0 Command: /Library/Frameworks/R.framework/Resources/bin/R CMD build --keep-empty-dirs --no-resave-data flowGate StartedAt: 2024-04-15 18:44:06 -0400 (Mon, 15 Apr 2024) EndedAt: 2024-04-15 18:45:18 -0400 (Mon, 15 Apr 2024) EllapsedTime: 71.6 seconds RetCode: 0 Status: OK PackageFile: flowGate_1.2.0.tar.gz PackageFileSize: 2.404 MiB