Package: flowGate Version: 1.2.0 Command: rm -rf flowGate.buildbin-libdir && mkdir flowGate.buildbin-libdir && /Users/biocbuild/BBS/utils/build-universal.sh flowGate_1.2.0.tar.gz /Library/Frameworks/R.framework/Resources/bin/R flowGate.buildbin-libdir StartedAt: 2024-04-16 11:43:05 -0400 (Tue, 16 Apr 2024) EndedAt: 2024-04-16 11:43:54 -0400 (Tue, 16 Apr 2024) EllapsedTime: 49.2 seconds RetCode: 0 Status: OK PackageFile: flowGate_1.2.0.tgz PackageFileSize: 1.724 MiB