Package: flowFP Version: 1.60.0 Command: /home/biocbuild/bbs-3.18-bioc/R/bin/R CMD INSTALL flowFP StartedAt: 2024-04-15 15:14:55 -0400 (Mon, 15 Apr 2024) EndedAt: 2024-04-15 15:15:08 -0400 (Mon, 15 Apr 2024) EllapsedTime: 12.7 seconds RetCode: 0 Status: OK