Package: flowDensity Version: 1.36.1 Command: /Library/Frameworks/R.framework/Resources/bin/R CMD INSTALL flowDensity StartedAt: 2024-04-15 16:11:40 -0400 (Mon, 15 Apr 2024) EndedAt: 2024-04-15 16:12:06 -0400 (Mon, 15 Apr 2024) EllapsedTime: 26.0 seconds RetCode: 0 Status: OK