Package: flowDensity Version: 1.36.1 Command: /Library/Frameworks/R.framework/Resources/bin/R CMD check --install=check:flowDensity.install-out.txt --library=/Library/Frameworks/R.framework/Resources/library --no-vignettes --timings flowDensity_1.36.1.tar.gz StartedAt: 2024-04-16 02:53:56 -0400 (Tue, 16 Apr 2024) EndedAt: 2024-04-16 02:55:57 -0400 (Tue, 16 Apr 2024) EllapsedTime: 120.9 seconds RetCode: 0 Status: WARNINGS CheckDir: flowDensity.Rcheck Warnings: 4