Package: flowDensity Version: 1.36.1 Command: rm -rf flowDensity.buildbin-libdir && mkdir flowDensity.buildbin-libdir && /Users/biocbuild/BBS/utils/build-universal.sh flowDensity_1.36.1.tar.gz /Library/Frameworks/R.framework/Resources/bin/R flowDensity.buildbin-libdir StartedAt: 2024-04-16 11:43:02 -0400 (Tue, 16 Apr 2024) EndedAt: 2024-04-16 11:43:43 -0400 (Tue, 16 Apr 2024) EllapsedTime: 41.0 seconds RetCode: 0 Status: OK PackageFile: flowDensity_1.36.1.tgz PackageFileSize: 4.489 MiB