Package: flowCyBar Version: 1.38.0 Command: /home/biocbuild/R/R-4.3.1/bin/R CMD build --keep-empty-dirs --no-resave-data flowCyBar StartedAt: 2023-11-02 01:09:50 -0000 (Thu, 02 Nov 2023) EndedAt: 2023-11-02 01:10:20 -0000 (Thu, 02 Nov 2023) EllapsedTime: 30.0 seconds RetCode: 0 Status: OK PackageFile: flowCyBar_1.38.0.tar.gz PackageFileSize: 498.9 KiB