Package: flowCore Version: 2.14.2 Command: F:\biocbuild\bbs-3.18-bioc\R\bin\R.exe CMD INSTALL flowCore StartedAt: 2024-04-15 15:40:36 -0400 (Mon, 15 Apr 2024) EndedAt: 2024-04-15 15:42:00 -0400 (Mon, 15 Apr 2024) EllapsedTime: 83.6 seconds RetCode: 0 Status: OK