Package: flowCore Version: 2.14.2 Command: F:\biocbuild\bbs-3.18-bioc\R\bin\R.exe CMD check --no-multiarch --install=check:flowCore.install-out.txt --library=F:\biocbuild\bbs-3.18-bioc\R\library --no-vignettes --timings flowCore_2.14.2.tar.gz StartedAt: 2024-04-16 00:50:14 -0400 (Tue, 16 Apr 2024) EndedAt: 2024-04-16 00:53:48 -0400 (Tue, 16 Apr 2024) EllapsedTime: 214.0 seconds RetCode: 0 Status: WARNINGS CheckDir: flowCore.Rcheck Warnings: 2