Package: flowCore Version: 2.14.2 Command: chmod a+r flowCore -R && F:\biocbuild\bbs-3.18-bioc\R\bin\R.exe CMD build --keep-empty-dirs --no-resave-data flowCore StartedAt: 2024-04-15 18:31:05 -0400 (Mon, 15 Apr 2024) EndedAt: 2024-04-15 18:32:54 -0400 (Mon, 15 Apr 2024) EllapsedTime: 109.0 seconds RetCode: 0 Status: OK PackageFile: flowCore_2.14.2.tar.gz PackageFileSize: 7.44 MiB