Package: flowCore Version: 2.14.2 Command: /Library/Frameworks/R.framework/Resources/bin/R CMD check --install=check:flowCore.install-out.txt --library=/Library/Frameworks/R.framework/Resources/library --no-vignettes --timings flowCore_2.14.2.tar.gz StartedAt: 2024-04-16 02:52:56 -0400 (Tue, 16 Apr 2024) EndedAt: 2024-04-16 02:58:01 -0400 (Tue, 16 Apr 2024) EllapsedTime: 305.3 seconds RetCode: 0 Status: WARNINGS CheckDir: flowCore.Rcheck Warnings: 2