Package: flowCore Version: 2.14.1 Command: /Library/Frameworks/R.framework/Resources/bin/R CMD INSTALL flowCore StartedAt: 2024-03-03 15:13:56 -0500 (Sun, 03 Mar 2024) EndedAt: 2024-03-03 15:14:53 -0500 (Sun, 03 Mar 2024) EllapsedTime: 57.0 seconds RetCode: 0 Status: OK