Package: flowCore Version: 2.14.1 Command: /Library/Frameworks/R.framework/Resources/bin/R CMD build --keep-empty-dirs --no-resave-data flowCore StartedAt: 2024-03-03 16:44:24 -0500 (Sun, 03 Mar 2024) EndedAt: 2024-03-03 16:46:30 -0500 (Sun, 03 Mar 2024) EllapsedTime: 126.7 seconds RetCode: 0 Status: OK PackageFile: flowCore_2.14.1.tar.gz PackageFileSize: 7.454 MiB