Package: flowCore Version: 2.14.1 Command: rm -rf flowCore.buildbin-libdir && mkdir flowCore.buildbin-libdir && /Users/biocbuild/BBS/utils/build-universal.sh flowCore_2.14.1.tar.gz /Library/Frameworks/R.framework/Resources/bin/R flowCore.buildbin-libdir StartedAt: 2024-03-04 00:41:29 -0500 (Mon, 04 Mar 2024) EndedAt: 2024-03-04 00:42:29 -0500 (Mon, 04 Mar 2024) EllapsedTime: 60.3 seconds RetCode: 0 Status: OK PackageFile: flowCore_2.14.1.tgz PackageFileSize: 8.149 MiB