Package: flowCore Version: 2.14.0 Command: /home/biocbuild/R/R-4.3.1/bin/R CMD INSTALL flowCore StartedAt: 2023-11-01 20:15:14 -0000 (Wed, 01 Nov 2023) EndedAt: 2023-11-01 20:16:18 -0000 (Wed, 01 Nov 2023) EllapsedTime: 63.9 seconds RetCode: 0 Status: OK