Package: flowCore Version: 2.14.0 Command: /home/biocbuild/R/R-4.3.1/bin/R CMD build --keep-empty-dirs --no-resave-data flowCore StartedAt: 2023-11-02 01:09:20 -0000 (Thu, 02 Nov 2023) EndedAt: 2023-11-02 01:11:07 -0000 (Thu, 02 Nov 2023) EllapsedTime: 107.2 seconds RetCode: 0 Status: OK PackageFile: flowCore_2.14.0.tar.gz PackageFileSize: 7.431 MiB