Package: flowCHIC Version: 1.36.0 Command: /Library/Frameworks/R.framework/Resources/bin/R CMD build --keep-empty-dirs --no-resave-data flowCHIC StartedAt: 2024-03-03 16:44:17 -0500 (Sun, 03 Mar 2024) EndedAt: 2024-03-03 16:45:04 -0500 (Sun, 03 Mar 2024) EllapsedTime: 47.5 seconds RetCode: 0 Status: OK PackageFile: flowCHIC_1.36.0.tar.gz PackageFileSize: 3.241 MiB