Package: flowBin Version: 1.38.0 Command: /Library/Frameworks/R.framework/Resources/bin/R CMD INSTALL flowBin StartedAt: 2024-04-15 15:22:01 -0400 (Mon, 15 Apr 2024) EndedAt: 2024-04-15 15:22:30 -0400 (Mon, 15 Apr 2024) EllapsedTime: 28.5 seconds RetCode: 0 Status: OK