Package: flowAI Version: 1.32.0 Command: chmod a+r flowAI -R && F:\biocbuild\bbs-3.18-bioc\R\bin\R.exe CMD build --keep-empty-dirs --no-resave-data flowAI StartedAt: 2024-04-15 18:29:39 -0400 (Mon, 15 Apr 2024) EndedAt: 2024-04-15 18:30:00 -0400 (Mon, 15 Apr 2024) EllapsedTime: 21.0 seconds RetCode: 0 Status: OK PackageFile: flowAI_1.32.0.tar.gz PackageFileSize: 3.747 MiB