Package: flowAI Version: 1.32.0 Command: /home/biocbuild/bbs-3.18-bioc/R/bin/R CMD build --keep-empty-dirs --no-resave-data flowAI StartedAt: 2024-04-15 17:05:58 -0400 (Mon, 15 Apr 2024) EndedAt: 2024-04-15 17:06:14 -0400 (Mon, 15 Apr 2024) EllapsedTime: 15.9 seconds RetCode: 0 Status: OK PackageFile: flowAI_1.32.0.tar.gz PackageFileSize: 3.747 MiB