Package: flagme Version: 1.58.0 Command: /Library/Frameworks/R.framework/Resources/bin/R CMD INSTALL flagme StartedAt: 2024-03-03 15:38:29 -0500 (Sun, 03 Mar 2024) EndedAt: 2024-03-03 15:39:35 -0500 (Sun, 03 Mar 2024) EllapsedTime: 65.7 seconds RetCode: 0 Status: OK