Package: flagme Version: 1.58.0 Command: /home/biocbuild/R/R-4.3.1/bin/R CMD build --keep-empty-dirs --no-resave-data flagme StartedAt: 2023-11-02 01:06:37 -0000 (Thu, 02 Nov 2023) EndedAt: 2023-11-02 01:11:03 -0000 (Thu, 02 Nov 2023) EllapsedTime: 266.4 seconds RetCode: 0 Status: OK PackageFile: flagme_1.58.0.tar.gz PackageFileSize: 701.9 KiB