Package: fgsea Version: 1.28.0 Command: chmod a+r fgsea -R && F:\biocbuild\bbs-3.18-bioc\R\bin\R.exe CMD build --keep-empty-dirs --no-resave-data fgsea StartedAt: 2024-04-15 18:28:51 -0400 (Mon, 15 Apr 2024) EndedAt: 2024-04-15 18:38:24 -0400 (Mon, 15 Apr 2024) EllapsedTime: 573.7 seconds RetCode: 0 Status: OK PackageFile: fgsea_1.28.0.tar.gz PackageFileSize: 3.61 MiB