Package: fgsea Version: 1.28.0 Command: /home/biocbuild/bbs-3.18-bioc/R/bin/R CMD check --install=check:fgsea.install-out.txt --library=/home/biocbuild/bbs-3.18-bioc/R/site-library --timings fgsea_1.28.0.tar.gz StartedAt: 2024-04-15 22:47:23 -0400 (Mon, 15 Apr 2024) EndedAt: 2024-04-15 23:22:14 -0400 (Mon, 15 Apr 2024) EllapsedTime: 2090.3 seconds RetCode: 0 Status: OK CheckDir: fgsea.Rcheck Warnings: 0